BEGIN:VCALENDAR
VERSION:2.0
PRODID:-//ChamberMaster//Event Calendar 2.0//EN
METHOD:PUBLISH
X-PUBLISHED-TTL:P3D
REFRESH-INTERVAL:P3D
CALSCALE:GREGORIAN
BEGIN:VEVENT
DTSTART:20200923T130000Z
DTEND:20200923T220000Z
X-MICROSOFT-CDO-ALLDAYEVENT:FALSE
SUMMARY:16th Annual Chamber Golf Classic
DESCRIPTION:The Chamber's Annual Golf Tournament is being held at the beautiful Ridgewood Country Club in Danbury\, CT. Play is a best two ball format with individual tee times assigned to each foursome.\n\n\n\n Longest Drive\, closest to the pin and\, four Par 3 Hole-in-Ones to win New Cars highlight the day's events!!!\n \nPlayer fee includes a boxed lunch\, green fees\, cart rental\, beverages and snacks throughout the day\, player gift\, and boxed Grab & Go Dinner.\n\n\n\n\n\nTo learn about sponsorship and volunteer opportunities HERE or\, contact the Chamber at 203-743-5565 or info@danburychamber.com
X-ALT-DESC;FMTTYPE=text/html:<font color="#000000" face="verdana"><span style="font-size: 14px\;">The Chamber&rsquo\;s Annual Golf Tournament is being held at the beautiful Ridgewood Country Club in Danbury\, CT. Play is a best two ball format with individual tee times assigned&nbsp\;to each foursome.</span></font><br />\n<br />\n<font face="verdana"><span style="font-size: 14px\;">&nbsp\;Longest Drive\, closest&nbsp\;to the pin and\, four Par 3 Hole-in-Ones</span></font><strong style="font-family: verdana\; font-size: 14px\;">&nbsp\;</strong><font face="verdana"><span style="font-size: 14px\;">to win&nbsp\;</span></font><strong style="font-family: verdana\; font-size: 14px\;">New Cars</strong><font face="verdana"><span style="font-size: 14px\;">&nbsp\;highlight the day&#39\;s events!!!</span></font>\n<div>&nbsp\;</div>\n<span style="font-family: verdana\;"><span style="color: rgb(0\, 0\, 0)\; font-size: 14px\;">Player fee includes a boxed lunch\, green fees\, cart rental\, beverages and snacks throughout the day\, player gift\, and boxed Grab &amp\; Go Dinner.</span><br />\n<br />\n<br />\n<span style="font-size: 14px\;">To learn about sponsorship and volunteer opportunities&nbsp\;<strong><a href="https://www.danburychamber.com/events/golf-classic/">HERE</a></strong>&nbsp\;or\, contact the Chamber at 203-743-5565 or&nbsp\;<a href="mailto:info@danburychamber.com">info@danburychamber.com</a></span></span><br />\n&nbsp\;
LOCATION:Ridgewood Country Club 119 Franklin Street Ext\, Danbury\, CT
UID:e.1955.3015
SEQUENCE:3
DTSTAMP:20260423T132223Z
URL:https://business.danburychamber.com/events/details/16th-annual-chamber-golf-classic-3015
END:VEVENT

END:VCALENDAR
