BEGIN:VCALENDAR
VERSION:2.0
PRODID:-//ChamberMaster//Event Calendar 2.0//EN
METHOD:PUBLISH
X-PUBLISHED-TTL:P3D
REFRESH-INTERVAL:P3D
CALSCALE:GREGORIAN
BEGIN:VEVENT
DTSTART;VALUE=DATE:20170626
DTEND;VALUE=DATE:20170627
TRANSP:TRANSPARENT
X-MICROSOFT-CDO-ALLDAYEVENT:TRUE
SUMMARY:2017 Ladies Golf Tournament
DESCRIPTION:There are only 10 foursomes left for the Ladies Golf Classic\, taking place at Richter Park Golf Course in Danbury on June 26th. This is one of the top ladies golf tournaments in Connecticut at an award winning course. Call your friends\, polish up your clubs and join us for a day of fun in the sun!
X-ALT-DESC;FMTTYPE=text/html:There are only 10 foursomes left for the Ladies Golf Classic\, taking place at Richter Park Golf Course in Danbury on June 26th. This is one of the top ladies golf tournaments in Connecticut at an award winning course. Call your friends\, polish up your clubs and join us for a day of fun in the sun!
LOCATION:
UID:e.1955.14
SEQUENCE:3
DTSTAMP:20260425T223204Z
URL:https://business.danburychamber.com/events/details/2017-ladies-golf-tournament-14
END:VEVENT

END:VCALENDAR
