BEGIN:VCALENDAR
VERSION:2.0
PRODID:-//ChamberMaster//Event Calendar 2.0//EN
METHOD:PUBLISH
X-PUBLISHED-TTL:P3D
REFRESH-INTERVAL:P3D
CALSCALE:GREGORIAN
BEGIN:VEVENT
DTSTART:20200727T114500Z
DTEND:20200727T221500Z
X-MICROSOFT-CDO-ALLDAYEVENT:FALSE
SUMMARY:25th Annual Jeanne Parille Ladies Golf Classic
DESCRIPTION:Every year\, the Jean Parille Ladies Golf Classic allows us to gather together for a beautiful game of golf\, but more so\, to raise awareness and funds to provide hope\, support\, and compassion in the face of cancer to all who have been affected by this horrible disease. Please join us this year for a fun day of golf to support Ann?s Place in assisting those facing cancer. Sign up coming soon!
X-ALT-DESC;FMTTYPE=text/html:Every year\, the Jean Parille Ladies Golf Classic allows us to gather together for a beautiful game of golf\, but more so\, to raise awareness and funds to provide hope\, support\, and compassion in the face of cancer to all who have been affected by this horrible disease. Please join us this year for a fun day of golf to support Ann?s Place in assisting those facing cancer. Sign up coming soon!
LOCATION:Richter Park Golf Course 100 Aunt Hack Rd Danbury\, CT 06810
UID:e.1955.2818
SEQUENCE:3
DTSTAMP:20260423T155219Z
URL:https://business.danburychamber.com/events/details/25th-annual-jeanne-parille-ladies-golf-classic-2818
END:VEVENT

END:VCALENDAR
