BEGIN:VCALENDAR
VERSION:2.0
PRODID:-//ChamberMaster//Event Calendar 2.0//EN
METHOD:PUBLISH
X-PUBLISHED-TTL:P3D
REFRESH-INTERVAL:P3D
CALSCALE:GREGORIAN
BEGIN:VEVENT
DTSTART:20260205T230000Z
DTEND:20260206T000000Z
X-MICROSOFT-CDO-ALLDAYEVENT:FALSE
SUMMARY:Adulting 101: Healthy Habits
DESCRIPTION:Adulting 101: Healthy Habits\n\nThursday\, February 5 at 6:00 p.m.\n\nfor Ages 16 and Up\n\nRegister online: brookfieldlib.librarycalendar.com/event/adulting-101-healthy-habits-29342\n\nLisa O'Connor\, Wellness Director at the YMCA in Brookfield\, will be presenting a workshop on Health Behaviors\n\nat The Brookfield Library. During this discussion\, Lisa will focus on how to create and maintain healthy habits such\n\nas label reading\, portion control\, and regular physical activity in order to improve your health.\n\nActive participation\, conversation\, and questions are encouraged and welcomed! Anyone who attends & fills out a survey will be entered into a door prize drawing for a 3-month membership to the YMCA.\n\nAbout Lisa:\n\nA Brookfield resident for more than 24 years\, Lisa has been part of the YMCA community since 2012. In her various roles\, she works with individuals of all ages to support healthier lifestyles\, reduce the risk of chronic disease\, and foster meaningful social connections.\n\nThis program is part of our Adulting 101 Life Skills workshop series\, sponsored by the Brookfield Education Foundation. Each Adulting 101 program includes workshop-relevant freebies for you to take home and kickstart your journey towards self-sufficiency.
X-ALT-DESC;FMTTYPE=text/html:<p><strong>Adulting 101: Healthy Habits<br />\nThursday\, February 5 at 6:00 p.m.</strong><br />\n<em>for Ages 16 and Up</em></p>\n\n<p>Register online:&nbsp\;<a href="https://brookfieldlib.librarycalendar.com/event/adulting-101-healthy-habits-29342" rel="nofollow noopener" style="box-sizing: border-box\; margin: 0px\; color: rgb(0\, 93\, 143)\;" target="_blank">brookfieldlib.librarycalendar.com/event/adulting-101-healthy-habits-29342</a></p>\n\n<p>Lisa O&#39\;Connor\, Wellness Director at the YMCA in Brookfield\, will be presenting a workshop on Health Behaviors<br />\nat The Brookfield Library. During this discussion\, Lisa will focus on how to create and maintain healthy habits such<br />\nas label reading\, portion control\, and regular physical activity in order to improve your health.</p>\n\n<p>Active participation\, conversation\, and questions are encouraged and welcomed! Anyone who attends &amp\; fills out a survey will be entered into a door prize drawing for a 3-month membership to the YMCA.</p>\n\n<p><strong>About Lisa:</strong><br />\nA Brookfield resident for more than 24 years\, Lisa has been part of the YMCA community since 2012. In her various roles\, she works with individuals of all ages to support healthier lifestyles\, reduce the risk of chronic disease\, and foster meaningful social connections.</p>\n\n<p><strong>This program is part of our&nbsp\;<a href="https://brookfieldlibrary.org/adulting-101" rel="nofollow noopener" style="box-sizing: border-box\; margin: 0px\; color: rgb(0\, 93\, 143)\;" target="_blank">Adulting 101 Life Skills</a>&nbsp\;workshop series\, sponsored by the Brookfield Education Foundation. Each Adulting 101 program includes workshop-relevant freebies for you to take home and kickstart your journey towards self-sufficiency.</strong></p>\n
LOCATION:The Brookfield Library Community Room 182 Whisconier Road Brookfield\, CT 06804
UID:e.1955.6605
SEQUENCE:3
DTSTAMP:20260423T110606Z
URL:https://business.danburychamber.com/events/details/adulting-101-healthy-habits-6605
END:VEVENT

END:VCALENDAR
