BEGIN:VCALENDAR
VERSION:2.0
PRODID:-//ChamberMaster//Event Calendar 2.0//EN
METHOD:PUBLISH
X-PUBLISHED-TTL:P3D
REFRESH-INTERVAL:P3D
CALSCALE:GREGORIAN
BEGIN:VEVENT
DTSTART:20170715T150000Z
DTEND:20170715T200000Z
X-MICROSOFT-CDO-ALLDAYEVENT:FALSE
SUMMARY:Bethel SummerFest
DESCRIPTION:Sidewalk Sales\, Splash Area\, Life Size Games\, Vendor and Craft Fair\, Games\, Live Music\, Shows\, Petting Zoo and More.\n\n \n\nThe fun begins on Saturday with a SplashFest on the lawn of the Municipal Center\, vendors\, A Petting Zoo\, Life size games\, Food\, crafts\, dj\, and more.\n\n \n\nLive music\, life size games and vendors on PT Barnum Square.\n\n \n\nThen stroll along Greenwood Ave for Street Performances\, Sidewalk sales and vendors.\n\n\n\nOn the lawn of the Library will be shows \, vendors and local art work
X-ALT-DESC;FMTTYPE=text/html:<div>Sidewalk Sales\, Splash Area\, Life Size Games\, Vendor and Craft Fair\, Games\, Live Music\, Shows\, Petting Zoo and More.</div>\n\n<div>&nbsp\;</div>\n\n<div>The fun begins on Saturday with a SplashFest on the lawn of the Municipal Center\, vendors\, A Petting Zoo\, Life size games\, Food\, crafts\, dj\, and more.</div>\n\n<div>&nbsp\;</div>\n\n<div>Live music\, life size games and vendors on PT Barnum Square.</div>\n\n<div>&nbsp\;</div>\n\n<div>Then stroll along Greenwood Ave for Street Performances\, Sidewalk sales and vendors.<br />\n<br />\nOn the lawn of the Library will be shows \, vendors and local art work</div>\n
LOCATION:1 School Street\, Bethel CT 06801
UID:e.1955.1
SEQUENCE:3
DTSTAMP:20260425T210952Z
URL:https://business.danburychamber.com/events/details/bethel-summerfest-1
END:VEVENT

END:VCALENDAR
