BEGIN:VCALENDAR
VERSION:2.0
PRODID:-//ChamberMaster//Event Calendar 2.0//EN
METHOD:PUBLISH
X-PUBLISHED-TTL:P3D
REFRESH-INTERVAL:P3D
CALSCALE:GREGORIAN
BEGIN:VEVENT
DTSTART:20170707T230000Z
DTEND:20170708T030000Z
X-MICROSOFT-CDO-ALLDAYEVENT:FALSE
SUMMARY:Concerts on the Green Series: B Street Band
DESCRIPTION:Bruce Springsteen Tribute Band\n\n \n\n Bring a Picnic & Enjoy the Show!
X-ALT-DESC;FMTTYPE=text/html:<div>Bruce Springsteen Tribute Band<br />\n&nbsp\;</div>\n\n<div>&#8203\;Bring a Picnic &amp\; Enjoy the Show!</div>\n
LOCATION:
UID:e.1955.17
SEQUENCE:3
DTSTAMP:20260425T223627Z
URL:https://business.danburychamber.com/events/details/concerts-on-the-green-series-b-street-band-17
END:VEVENT

END:VCALENDAR
