BEGIN:VCALENDAR
VERSION:2.0
PRODID:-//ChamberMaster//Event Calendar 2.0//EN
METHOD:PUBLISH
X-PUBLISHED-TTL:P3D
REFRESH-INTERVAL:P3D
CALSCALE:GREGORIAN
BEGIN:VEVENT
DTSTART:20170714T230000Z
DTEND:20170715T030000Z
X-MICROSOFT-CDO-ALLDAYEVENT:FALSE
SUMMARY:Concerts on the Green Series: Fast Lane (An Eagles Tribute Band)
DESCRIPTION:
X-ALT-DESC;FMTTYPE=text/html:
LOCATION:
UID:e.1955.18
SEQUENCE:3
DTSTAMP:20260425T211356Z
URL:https://business.danburychamber.com/events/details/concerts-on-the-green-series-fast-lane-an-eagles-tribute-band-18
END:VEVENT

END:VCALENDAR
