BEGIN:VCALENDAR
VERSION:2.0
PRODID:-//ChamberMaster//Event Calendar 2.0//EN
METHOD:PUBLISH
X-PUBLISHED-TTL:P3D
REFRESH-INTERVAL:P3D
CALSCALE:GREGORIAN
BEGIN:VEVENT
DTSTART:20170728T230000Z
DTEND:20170729T030000Z
X-MICROSOFT-CDO-ALLDAYEVENT:FALSE
SUMMARY:Concerts on the Green Series: Gratefully Yours (A Grateful Dead Cover Band)
DESCRIPTION:
X-ALT-DESC;FMTTYPE=text/html:
LOCATION:
UID:e.1955.20
SEQUENCE:3
DTSTAMP:20260425T211715Z
URL:https://business.danburychamber.com/events/details/concerts-on-the-green-series-gratefully-yours-a-grateful-dead-cover-band-20
END:VEVENT

END:VCALENDAR
