BEGIN:VCALENDAR
VERSION:2.0
PRODID:-//ChamberMaster//Event Calendar 2.0//EN
METHOD:PUBLISH
X-PUBLISHED-TTL:P3D
REFRESH-INTERVAL:P3D
CALSCALE:GREGORIAN
BEGIN:VEVENT
DTSTART:20270311T180000Z
DTEND:20270311T220000Z
X-MICROSOFT-CDO-ALLDAYEVENT:FALSE
SUMMARY:Corporate Events at Aquila's Nest Vineyards
DESCRIPTION:Opened in 2020\, the 41-acre experience-focused winery located 56 Pole Bridge Road in Newtown\, Connecticut\, provides an amazing backdrop for corporate events\, team building activities\, client entertaining\, fundraisers and more. \n\n \n\nThe winery features a 4\,000-square foot brushed-steel barn that serves as a 75-seat wine bar and tasting room which opens to an outdoor terrace with breathtaking views of the vineyard and the far-reaching mountains beyond.\n\n \n\nWith several distinct open-air space settings\, including an intimate pergola\, the unobstructed Forbidden Fireplace platform\, intimate fire pits and unique gazebos are designed to accommodate smaller professional or social events as well.\n\n \n\nOur experienced events team can help guide you on the best space for your event\, d cor\, food\,  beverage options and much more.\n\n \n\nFor more information about our seasonally inspired pairings created to complement our acclaimed wines\, please email us at reservations@aquilasnestvineyards.com and a member of our team will be in touch.\n\n \n\nWe look forward to planning an occasion that you and your guests will not soon forget!
X-ALT-DESC;FMTTYPE=text/html:<p><span style="background-color:transparent\; color:rgb(0\, 0\, 0)\; font-family:arial\; font-size:10pt">Opened in 2020\, the </span><span style="background-color:transparent\; color:rgb(0\, 0\, 0)\; font-family:calibri\,sans-serif\; font-size:11pt">41-acre experience-focused winery located 56 Pole Bridge Road in Newtown\, Connecticut\, provides an amazing backdrop for corporate events\, team building activities\, client entertaining\, fundraisers and more.&nbsp\;</span><br />\n&nbsp\;</p>\n\n<p><span style="background-color:transparent\; color:rgb(0\, 0\, 0)\; font-family:calibri\,sans-serif\; font-size:11pt">The winery features a 4\,000-square foot brushed-steel barn that serves as a 75-seat wine bar and tasting room which opens to an outdoor terrace with breathtaking views of the vineyard and the far-reaching mountains beyond.</span><br />\n&nbsp\;</p>\n\n<p><span style="background-color:transparent\; color:rgb(0\, 0\, 0)\; font-family:calibri\,sans-serif\; font-size:11pt">With several distinct open-air space settings\, including an intimate pergola\, the unobstructed </span><em>Forbidden Fireplace</em><span style="background-color:transparent\; color:rgb(0\, 0\, 0)\; font-family:calibri\,sans-serif\; font-size:11pt"> platform\, intimate fire pits and unique gazebos are designed to accommodate smaller professional or social events as well.</span><br />\n&nbsp\;</p>\n\n<p><span style="background-color:transparent\; color:rgb(0\, 0\, 0)\; font-family:calibri\,sans-serif\; font-size:11pt">Our experienced events team can help guide you on the best space for your event\, d&eacute\;cor\, food\,&nbsp\; beverage options and much more.</span><br />\n&nbsp\;</p>\n\n<p><span style="background-color:transparent\; color:rgb(0\, 0\, 0)\; font-family:calibri\,sans-serif\; font-size:11pt">For more information about our seasonally inspired pairings created to complement our acclaimed wines\, please email us at reservations@aquilasnestvineyards.com and a member of our team will be in touch.</span><br />\n&nbsp\;</p>\n\n<p><span style="background-color:transparent\; color:rgb(0\, 0\, 0)\; font-family:calibri\,sans-serif\; font-size:11pt">We look forward to planning an occasion that you and your guests will not soon forget!</span></p>\n
LOCATION:Aquila's Nest Vineyards 56 Pole Bridge Rd. Newtown\, CT
UID:e.1955.5808
SEQUENCE:3
DTSTAMP:20260420T162302Z
URL:https://business.danburychamber.com/events/details/corporate-events-at-aquila-s-nest-vineyards-03-11-2027-5808
END:VEVENT

END:VCALENDAR
