BEGIN:VCALENDAR
VERSION:2.0
PRODID:-//ChamberMaster//Event Calendar 2.0//EN
METHOD:PUBLISH
X-PUBLISHED-TTL:P3D
REFRESH-INTERVAL:P3D
CALSCALE:GREGORIAN
BEGIN:VEVENT
DTSTART:20201002T140000Z
DTEND:20201002T180000Z
X-MICROSOFT-CDO-ALLDAYEVENT:FALSE
SUMMARY:Danbury Farmer's Market
DESCRIPTION:CityCenter Danbury's Farmer's Market every Friday @ the Railway Museum \n\n-Marks required\n\n-Use your debit/credit card\n\n-Double you SNAP money\n\n-Shop alone if possible\n\n-Physical distancing required
X-ALT-DESC;FMTTYPE=text/html:CityCenter Danbury&#39\;s Farmer&#39\;s Market every Friday @ the Railway Museum&nbsp\;<br />\n-Marks required<br />\n-Use your debit/credit card<br />\n-Double you SNAP money<br />\n-Shop alone if possible<br />\n-Physical distancing required
LOCATION:Danbury Railway Museum
UID:e.1955.3007
SEQUENCE:3
DTSTAMP:20260423T105613Z
URL:https://business.danburychamber.com/events/details/danbury-farmer-s-market-10-02-2020-3007
END:VEVENT

END:VCALENDAR
