BEGIN:VCALENDAR
VERSION:2.0
PRODID:-//ChamberMaster//Event Calendar 2.0//EN
METHOD:PUBLISH
X-PUBLISHED-TTL:P3D
REFRESH-INTERVAL:P3D
CALSCALE:GREGORIAN
BEGIN:VEVENT
DTSTART:20200816T150000Z
DTEND:20200816T200000Z
X-MICROSOFT-CDO-ALLDAYEVENT:FALSE
SUMMARY:Danbury Kids Expo
DESCRIPTION:10th annual Danbury Kids Expo at the Sports Dome offers families to explore new programs\, summer camps\, services and\, resources from throughout the region all in one place on one fun day together!\n\n\n\nThe Kids Expo is informative\, educational\, entertaining\, and fun for children of all ages!\n\n\n\nKids and adults are entertained and informed throughout the day with a diverse schedule of amusing performances\, fun activities and more! Admission includes face painting\, bouncy house\, balloon twisting and the first 300 children spin the wheel for a free prize!\n\n\n\nhttps://www.danburykidsexpo.com/exhibitors/\n\n\n\nA portion of the admission fees goes directly to The American Cancer Society!
X-ALT-DESC;FMTTYPE=text/html:<div id="event-description" style="background-attachment: scroll\; background-clip: border-box\; background-color: white\; background-image: none\; background-origin: padding-box\; background-position-x: 0%\; background-position-y: 0%\; background-repeat: repeat\; background-size: auto\; box-sizing: inherit\; clear: both\; color: rgb(105\, 105\, 105)\; font-family: &quot\;Century Gothic&quot\;\,CenturyGothic\,AppleGothic\,sans-serif\; font-size: 15px\; font-style: normal\; font-variant: normal\; font-weight: 400\; height: 460px\; letter-spacing: normal\; margin-bottom: 10px\; margin-top: 16px\; orphans: 2\; overflow: hidden\; padding-bottom: 10px\; padding-left: 10px\; padding-right: 10px\; padding-top: 10px\; text-align: left\; text-decoration: none\; text-indent: 0px\; text-transform: none\; -webkit-text-stroke-width: 0px\; white-space: normal\; word-spacing: 0px\;">\n<p style="box-sizing: inherit\; float: left\; margin-bottom: 10px\; margin-left: 0px\; margin-right: 0px\; margin-top: 0px\; width: 57%\;">10th annual Danbury Kids Expo at the Sports Dome offers families to explore new programs\, summer camps\, services and\, resources from throughout the region all in one place on one fun day together!<br style="box-sizing: inherit\;" />\n<br style="box-sizing: inherit\;" />\nThe Kids Expo is informative\, educational\, entertaining\, and fun for children of all ages!<br style="box-sizing: inherit\;" />\n<br style="box-sizing: inherit\;" />\nKids and adults are entertained and informed throughout the day with a diverse schedule of amusing performances\, fun activities and more! Admission includes face painting\, bouncy house\, balloon twisting and the first 300 children spin the wheel for a free prize!<br />\n<br />\n<span style="color:#696969\;"><a href="https://www.danburykidsexpo.com/exhibitors">https://www.danburykidsexpo.com/exhibitors/</a><br style="box-sizing: inherit\;" />\n<br style="box-sizing: inherit\;" />\nA portion of the admission fees goes directly to The American Cancer Society!</span></p>\n</div>\n\n<div class="transwrp" style="background-attachment: scroll\; background-clip: border-box\; background-color: white\; background-image: none\; background-origin: padding-box\; background-position-x: 0%\; background-position-y: 0%\; background-repeat: repeat\; background-size: auto\; bottom: 64px\; box-sizing: inherit\; color: rgb(0\, 0\, 0)\; font-family: &quot\;Century Gothic&quot\;\,CenturyGothic\,AppleGothic\,sans-serif\; font-size: 13px\; font-style: normal\; font-variant: normal\; font-weight: 400\; height: 20px\; letter-spacing: normal\; opacity: 0.5\; orphans: 2\; position: relative\; text-align: left\; text-decoration: none\; text-indent: 0px\; text-transform: none\; -webkit-text-stroke-width: 0px\; white-space: normal\; word-spacing: 0px\;">&nbsp\;</div>\n
LOCATION:Danbury Sports Dome 5 Shelter Rock Lane Danbury\, CT 06810
UID:e.1955.2928
SEQUENCE:3
DTSTAMP:20260423T143841Z
URL:https://business.danburychamber.com/events/details/danbury-kids-expo-2928
END:VEVENT

END:VCALENDAR
