BEGIN:VCALENDAR
VERSION:2.0
PRODID:-//ChamberMaster//Event Calendar 2.0//EN
METHOD:PUBLISH
X-PUBLISHED-TTL:P3D
REFRESH-INTERVAL:P3D
CALSCALE:GREGORIAN
BEGIN:VEVENT
DTSTART:20200816T210000Z
DTEND:20200816T220000Z
X-MICROSOFT-CDO-ALLDAYEVENT:FALSE
SUMMARY:Danbury Music Centre 85th Anniversary Virtual Celebration
DESCRIPTION:DMC is celebrating 85 years with a Virtual Gala on Sunday\, August 16\, 2020 at 5 PM. Browse our on-line auction\, beginning on August 9th and bid on items that speak to you! The Danbury Music Centre\, founded in 1935\, has continually played an important role in the arts and cultural life of greater Danbury. The DMC\, since its inception\, has enriched the lives of participants through various musical groups benefiting the Greater Danbury community with a wide array of performances offered mostly free of charge. Join in and show your support for the Danbury Music Centre which has been a pillar in the Danbury community for 85 years! For information\, please contact the Danbury Music Centre at 203 748-1716 or visit the DMC website: danburymusiccentre.org.
X-ALT-DESC;FMTTYPE=text/html:DMC is celebrating 85 years with a Virtual Gala on Sunday\, August 16\, 2020 at 5 PM. Browse our on-line auction\, beginning on August 9th and bid on items that speak to you! The Danbury Music Centre\, founded in 1935\, has continually played an important role in the arts and cultural life of greater Danbury. The DMC\, since its inception\, has enriched the lives of participants through various musical groups benefiting the Greater Danbury community with a wide array of performances offered mostly free of charge. Join in and show your support for the Danbury Music Centre which has been a pillar in the Danbury community for 85 years! For information\, please contact the Danbury Music Centre at 203 748-1716 or visit the DMC website: danburymusiccentre.org.
LOCATION:https://www.facebook.com/DanburyMusicCentre/
UID:e.1955.3016
SEQUENCE:3
DTSTAMP:20260423T144005Z
URL:https://business.danburychamber.com/events/details/danbury-music-centre-85th-anniversary-virtual-celebration-3016
END:VEVENT

END:VCALENDAR
