BEGIN:VCALENDAR
VERSION:2.0
PRODID:-//ChamberMaster//Event Calendar 2.0//EN
METHOD:PUBLISH
X-PUBLISHED-TTL:P3D
REFRESH-INTERVAL:P3D
CALSCALE:GREGORIAN
BEGIN:VEVENT
DTSTART:20170727T143000Z
DTEND:20170727T170000Z
X-MICROSOFT-CDO-ALLDAYEVENT:FALSE
SUMMARY:Explore Veterans' Benefits at Maplewood Senior Living
DESCRIPTION:Maplewood Senior Living invites you to Explore Veterans' Benefits\, a breakfast seminar and discussion.\n\nThursday\, July 27th following the Korean War Memorial Ceremony\n\n \n\nJoin us for breakfast to learn more about Veterans' Aid and Attendance Pension Benefits. This enlightening seminar will be presented by John Falkowski of Green Funeral Home. VA pension benefits can help pay for home care and assisted living and are available for surviving spouses. Q and A following presentation. RSVP to Cindy Jones by July 24th at 203-968-3142\n\n \n\nTo All Veterans - Thank you for your service!
X-ALT-DESC;FMTTYPE=text/html:<div>Maplewood Senior Living invites you to Explore Veterans&#39\; Benefits\, a breakfast seminar and discussion.</div>\n\n<div>Thursday\, July 27th following the Korean War Memorial Ceremony</div>\n\n<div>&nbsp\;</div>\n\n<div>Join us for breakfast to learn more about Veterans&#39\; Aid and Attendance Pension Benefits. This enlightening seminar will be presented by John Falkowski of Green Funeral Home. VA pension benefits can help pay for home care and assisted living and are available for surviving spouses. Q and A following presentation. RSVP to Cindy Jones by July 24th at 203-968-3142</div>\n\n<div>&nbsp\;</div>\n\n<div>To All Veterans - Thank you for your service!</div>\n
LOCATION:
UID:e.1955.32
SEQUENCE:3
DTSTAMP:20260425T223457Z
URL:https://business.danburychamber.com/events/details/explore-veterans-benefits-at-maplewood-senior-living-32
END:VEVENT

END:VCALENDAR
