BEGIN:VCALENDAR
VERSION:2.0
PRODID:-//ChamberMaster//Event Calendar 2.0//EN
METHOD:PUBLISH
X-PUBLISHED-TTL:P3D
REFRESH-INTERVAL:P3D
CALSCALE:GREGORIAN
BEGIN:VEVENT
DTSTART:20260429T230000Z
DTEND:20260430T010000Z
X-MICROSOFT-CDO-ALLDAYEVENT:FALSE
SUMMARY:Financial Workshop – Manage Your Money & Build Credit
DESCRIPTION:Join us for a free financial workshop hosted by LEAD Greater Danbury in partnership with Danbury International Academy Charter School\, designed to help you take control of your finances and plan for a stronger future.\n\nThis workshop will take place at 2 National Place\, Danbury\, CT\, and is open to the entire community. Participants will learn practical tools to manage money effectively\, improve their credit score\, and build smart budgeting strategies for long-term financial stability.\n\nWhether you are starting your financial journey or looking to strengthen your knowledge\, this session will provide valuable guidance in a supportive and accessible environment.\n\nSpots are limited\, so don't miss this opportunity to invest in your future.
X-ALT-DESC;FMTTYPE=text/html:<p>Join us for a free financial workshop hosted by&nbsp\;<strong>LEAD Greater Danbury in partnership with Danbury International Academy Charter School</strong>\, designed to help you take control of your finances and plan for a stronger future.</p>\n\n<p>This workshop will take place at&nbsp\;<strong>2 National Place\, Danbury\, CT</strong>\, and is open to the entire community. Participants will learn practical tools to manage money effectively\, improve their credit score\, and build smart budgeting strategies for long-term financial stability.</p>\n\n<p>Whether you are starting your financial journey or looking to strengthen your knowledge\, this session will provide valuable guidance in a supportive and accessible environment.</p>\n\n<p>Spots are limited\, so don&rsquo\;t miss this opportunity to invest in your future.</p>\n
LOCATION:2 National Place\, Danbury\, CT
UID:e.1955.6648
SEQUENCE:3
DTSTAMP:20260420T231708Z
URL:https://business.danburychamber.com/events/details/financial-workshop-manage-your-money-build-credit-6648
END:VEVENT

END:VCALENDAR
