BEGIN:VCALENDAR
VERSION:2.0
PRODID:-//ChamberMaster//Event Calendar 2.0//EN
METHOD:PUBLISH
X-PUBLISHED-TTL:P3D
REFRESH-INTERVAL:P3D
CALSCALE:GREGORIAN
BEGIN:VEVENT
DTSTART:20260217T133000Z
DTEND:20260217T150000Z
X-MICROSOFT-CDO-ALLDAYEVENT:FALSE
SUMMARY:GDCC - Brew and Brief\, meeting the regional Delegates
DESCRIPTION:Brew and Brief\, a regional legislative Delegates\n\nkick off the legislative session with coffee\, conversation\, and a direct line to your local lawmakers.
X-ALT-DESC;FMTTYPE=text/html:Brew and Brief\, a regional legislative Delegates<br />\nkick off the legislative session with coffee\, conversation\, and a direct line to your local lawmakers.
LOCATION:Ethan Allen Inn 21 Lake Avenue\, Ext. Danbury CT 06811
UID:e.1955.6608
SEQUENCE:3
DTSTAMP:20260423T112359Z
URL:https://business.danburychamber.com/events/details/gdcc-brew-and-brief-meeting-the-regional-delegates-6608
END:VEVENT

END:VCALENDAR
