BEGIN:VCALENDAR
VERSION:2.0
PRODID:-//ChamberMaster//Event Calendar 2.0//EN
METHOD:PUBLISH
X-PUBLISHED-TTL:P3D
REFRESH-INTERVAL:P3D
CALSCALE:GREGORIAN
BEGIN:VEVENT
DTSTART:20260220T123000Z
DTEND:20260220T140000Z
X-MICROSOFT-CDO-ALLDAYEVENT:FALSE
SUMMARY:GDCC-Economic Forecast 2026
DESCRIPTION:Join the Greater Danbury Chamber of Commerce for the Annual Economic Forecast with Curtis Dubay\, Chief Economist at the U.S. Chamber of Commerce. Business leaders will gain actionable insight into key economic indicators\, the impact of public policy on growth\, and how national and global trends will influence strategic planning\, investment\, and operations here in Connecticut. Frequently cited by Congress and major media outlets\, Curtis Dubay delivers trusted analysis leaders rely on to navigate risk and identify opportunity.
X-ALT-DESC;FMTTYPE=text/html:<p><span style="color: rgb(51\, 51\, 51)\; font-family: sans-serif\, Arial\, Verdana\, &quot\;Trebuchet MS&quot\;\; font-size: 13px\; background-color: rgb(255\, 255\, 255)\;">Join the Greater Danbury Chamber of Commerce for the Annual Economic Forecast with Curtis Dubay\, Chief Economist at the U.S. Chamber of Commerce. Business leaders will gain actionable insight into key economic indicators\, the impact of public policy on growth\, and how national and global trends will influence strategic planning\, investment\, and operations here in Connecticut. Frequently cited by Congress and major media outlets\, Curtis Dubay delivers trusted analysis leaders rely on to navigate risk and identify opportunity.</span></p>\n
LOCATION:Anthony's Lake Club 10 Colombus Avenue\, Danbury CT 06810
UID:e.1955.6596
SEQUENCE:3
DTSTAMP:20260423T123123Z
URL:https://business.danburychamber.com/events/details/gdcc-economic-forecast-2026-6596
END:VEVENT

END:VCALENDAR
