BEGIN:VCALENDAR
VERSION:2.0
PRODID:-//ChamberMaster//Event Calendar 2.0//EN
METHOD:PUBLISH
X-PUBLISHED-TTL:P3D
REFRESH-INTERVAL:P3D
CALSCALE:GREGORIAN
BEGIN:VEVENT
DTSTART:20260204T220000Z
DTEND:20260205T010000Z
X-MICROSOFT-CDO-ALLDAYEVENT:FALSE
SUMMARY:GDCC-SUPER BOWL LX Business after Business Kickoff
DESCRIPTION:SUPER BOWL LX Kickoff Business after Business:\n\n(2) Beverages of choice and continuous food (Pizza\, Pretzels\, hotdogs)\n\n served Buffet Style
X-ALT-DESC;FMTTYPE=text/html:SUPER BOWL LX&nbsp\;Kickoff Business after Business:<br />\n<span style="color: rgb(51\, 51\, 51)\; font-family: sans-serif\, Arial\, Verdana\, &quot\;Trebuchet MS&quot\;\; font-size: 13px\; background-color: rgb(255\, 255\, 255)\;">(2) Beverages of choice and continuous food (Pizza\, Pretzels\, hotdogs)</span><br style="color: rgb(51\, 51\, 51)\; font-family: sans-serif\, Arial\, Verdana\, &quot\;Trebuchet MS&quot\;\; font-size: 13px\;" />\n<span style="color: rgb(51\, 51\, 51)\; font-family: sans-serif\, Arial\, Verdana\, &quot\;Trebuchet MS&quot\;\; font-size: 13px\; background-color: rgb(255\, 255\, 255)\;">&nbsp\;served Buffet Style</span>
LOCATION:NewSylum Brewing Co. Keating Farms Ave\, Newtown\, CT 06470
UID:e.1955.6594
SEQUENCE:3
DTSTAMP:20260423T122630Z
URL:https://business.danburychamber.com/events/details/gdcc-super-bowl-lx-business-after-business-kickoff-6594
END:VEVENT

END:VCALENDAR
