BEGIN:VCALENDAR
VERSION:2.0
PRODID:-//ChamberMaster//Event Calendar 2.0//EN
METHOD:PUBLISH
X-PUBLISHED-TTL:P3D
REFRESH-INTERVAL:P3D
CALSCALE:GREGORIAN
BEGIN:VEVENT
DTSTART:20170615T210000Z
DTEND:20170615T230000Z
X-MICROSOFT-CDO-ALLDAYEVENT:FALSE
SUMMARY:Grand Opening - Pour Me Coffee & Wine Cafe
DESCRIPTION:Please join us at the new fast-fine eatery concept in the heart of Danbury's resurgent downtown\n\nWhere everyone is welcomed in their own language!\n\n \n\nRibbon Cutting officiated by Mayor Boughton.\n\n \n\nEnjoy a delicious selection of homemade bites and handcrafted beverages.
X-ALT-DESC;FMTTYPE=text/html:<div>Please join us at the new fast-fine eatery concept in the heart of Danbury&#39\;s resurgent downtown</div>\n\n<div>Where everyone is welcomed in their own language!</div>\n\n<div>&nbsp\;</div>\n\n<div>Ribbon Cutting officiated by Mayor Boughton.</div>\n\n<div>&nbsp\;</div>\n\n<div>Enjoy a delicious selection of homemade bites and handcrafted beverages.</div>\n
LOCATION:274 Main Street\, Danbury CT 06810 (Parking on the street and at Bardo Garage on Library Place)
UID:e.1955.12
SEQUENCE:3
DTSTAMP:20260425T235907Z
URL:https://business.danburychamber.com/events/details/grand-opening-pour-me-coffee-wine-cafe-12
END:VEVENT

END:VCALENDAR
