BEGIN:VCALENDAR
VERSION:2.0
PRODID:-//ChamberMaster//Event Calendar 2.0//EN
METHOD:PUBLISH
X-PUBLISHED-TTL:P3D
REFRESH-INTERVAL:P3D
CALSCALE:GREGORIAN
BEGIN:VEVENT
DTSTART:20170713T170000Z
DTEND:20170713T190000Z
X-MICROSOFT-CDO-ALLDAYEVENT:FALSE
SUMMARY:Hillcroft Village Grand Opening
DESCRIPTION:Please join us for the Grand Opening\n\n\n\n Ribbon Cutting officiated by Mayor Boughton!
X-ALT-DESC;FMTTYPE=text/html:Please join us for the Grand Opening<br />\n<br />\n&#8203\;Ribbon Cutting officiated by Mayor Boughton!
LOCATION:10 Clapboard Ridge Road Danbury\, CT 06810
UID:e.1955.28
SEQUENCE:3
DTSTAMP:20260425T211102Z
URL:https://business.danburychamber.com/events/details/hillcroft-village-grand-opening-28
END:VEVENT

END:VCALENDAR
