BEGIN:VCALENDAR
VERSION:2.0
PRODID:-//ChamberMaster//Event Calendar 2.0//EN
METHOD:PUBLISH
X-PUBLISHED-TTL:P3D
REFRESH-INTERVAL:P3D
CALSCALE:GREGORIAN
BEGIN:VEVENT
DTSTART:20170722T190000Z
DTEND:20170723T010000Z
X-MICROSOFT-CDO-ALLDAYEVENT:FALSE
SUMMARY:i95's Brews & BBQ Fest
DESCRIPTION:Celebrate the change of the seasons with the ultimate spring bash featuring BBQ\, craft beer and live music!\n\nBrews & BBQ has gone all out this year to bring you the area's best BBQ makers\, local and national craft beers\, and headline entertainment by the Spin Doctors!
X-ALT-DESC;FMTTYPE=text/html:<div>Celebrate the change of the seasons with the ultimate spring bash featuring BBQ\, craft beer and live music!</div>\n\n<div>Brews &amp\; BBQ has gone all out this year to bring you the area&#39\;s best BBQ makers\, local and national craft beers\, and headline entertainment by the Spin Doctors!</div>\n
LOCATION:Ives Concert Park 43 Lake Ext\, Danbury\, CT 06811
UID:e.1955.2
SEQUENCE:3
DTSTAMP:20260425T210951Z
URL:https://business.danburychamber.com/events/details/i95-s-brews-bbq-fest-2
END:VEVENT

END:VCALENDAR
