BEGIN:VCALENDAR
VERSION:2.0
PRODID:-//ChamberMaster//Event Calendar 2.0//EN
METHOD:PUBLISH
X-PUBLISHED-TTL:P3D
REFRESH-INTERVAL:P3D
CALSCALE:GREGORIAN
BEGIN:VEVENT
DTSTART:20170718T040000Z
DTEND:20170718T160000Z
X-MICROSOFT-CDO-ALLDAYEVENT:FALSE
SUMMARY:LinkedIn: Build your Brand from Microsoft
DESCRIPTION:Get the most out of LinkedIn with this Workshop from Microsoft Store\n\n \n\nHighlights\n\nBuild your brand. Explore your career options. Get hired. Did you know you can do it all on LinkedIn?\n\n \n\nLinkedIn is an online network of professional relationships\, which you can use to promote yourself and your qualifications\, grow your own network\, and connect with job opportunities.
X-ALT-DESC;FMTTYPE=text/html:<div>Get the most out of LinkedIn with this Workshop from Microsoft Store</div>\n\n<div>&nbsp\;</div>\n\n<div>Highlights</div>\n\n<div>Build your brand. Explore your career options. Get hired. Did you know you can do it all on LinkedIn?</div>\n\n<div>&nbsp\;</div>\n\n<div>LinkedIn is an online network of professional relationships\, which you can use to promote yourself and your qualifications\, grow your own network\, and connect with job opportunities.</div>\n
LOCATION:
UID:e.1955.16
SEQUENCE:3
DTSTAMP:20260425T210930Z
URL:https://business.danburychamber.com/events/details/linkedin-build-your-brand-from-microsoft-16
END:VEVENT

END:VCALENDAR
