BEGIN:VCALENDAR
VERSION:2.0
PRODID:-//ChamberMaster//Event Calendar 2.0//EN
METHOD:PUBLISH
X-PUBLISHED-TTL:P3D
REFRESH-INTERVAL:P3D
CALSCALE:GREGORIAN
BEGIN:VEVENT
DTSTART:20260503T040000Z
DTEND:20260510T040000Z
X-MICROSOFT-CDO-ALLDAYEVENT:FALSE
SUMMARY:Newtown Restaurant Week - Benefiting Nursing Excellence at Danbury Hospital
DESCRIPTION:This National Nurses Week\, to dine with purpose. Join Newtown Restaurants during Newtown Restaurant Week and help strengthen Nursing Excellence at Danbury Hospital the nurses who care for our families\, friends\, and neighbors every day.\n\n\n\nDuring Newtown Restaurant Week\, your visit helps support the nurses who are the heart of our community caring for patients and families when it matters most. Your support helps fund:\n\n\n\n	Continuing education and training\n	Professional development\n	Nursing technology enhancements\n\nNewtown Restaurant Week participants:\n\n\n\n\n	Aquila's Nest Vineyards   Wednesday\, May 6 and Thursday\, May 7\, proceeds from the Aquila Sunrise Mocktail will support the event.\n	Cosmic Cafe + Smoothie Bar   Percentage of sales on Friday\, May 8 will support the event\n	Good Ole Days   Percentage of proceeds from a specialty pie during the week will support the event\n	Hilltop \n	Marygold's - Percentage of proceeds from a specialty pie during the week will support the event\n	Newsylum Brewing\n	Taco Dia   10% of each check on Wednesday\, May 6\, will support the event
X-ALT-DESC;FMTTYPE=text/html:<div>\n<p><span style="color:#000080">This National Nurses Week\, to dine with purpose. Join Newtown Restaurants during Newtown Restaurant Week and help strengthen Nursing Excellence at Danbury Hospital&mdash\;the nurses who care for our families\, friends\, and neighbors every day.<br />\n<br />\nDuring Newtown Restaurant Week\, your visit helps support the nurses who are the heart of our community&mdash\;caring for patients and families when it matters most.&nbsp\;Your support helps fund:</span></p>\n\n<div>\n<ul>\n	<li><span style="color:#000080">Continuing education and training</span></li>\n	<li><span style="color:#000080">Professional development</span></li>\n	<li><span style="color:#000080">Nursing technology enhancements</span></li>\n</ul>\n<span style="color:#000080"><strong>Newtown Restaurant Week participants:</strong></span>\n\n<div>\n<div>\n<ul>\n	<li><span style="color:#000080"><strong>Aquila&#39\;s Nest Vineyards</strong>&nbsp\;&ndash\; Wednesday\, May 6 and Thursday\, May 7\, proceeds from the Aquila Sunrise Mocktail will support the event.</span></li>\n	<li><span style="color:#000080"><strong>Cosmic Cafe + Smoothie Bar</strong> &ndash\; Percentage of sales on Friday\, May 8 will support the event</span></li>\n	<li><span style="color:#000080"><strong>Good Ole Days</strong> &ndash\; Percentage of proceeds from a specialty pie during the week will support the event</span></li>\n	<li><span style="color:#000080"><strong>Hilltop</strong>&nbsp\;</span></li>\n	<li><span style="color:#000080"><strong>Marygold&#39\;s</strong> - Percentage of proceeds from a specialty pie during the week will support the event</span></li>\n	<li><span style="color:#000080"><strong>Newsylum Brewing</strong></span></li>\n	<li><span style="color:#000080"><strong>Taco Dia</strong> &ndash\; 10% of each check on Wednesday\, May 6\, will support the event</span></li>\n</ul>\n</div>\n\n<div>\n<p>&nbsp\;</p>\n</div>\n</div>\n</div>\n</div>\n
LOCATION:Aquila's Nest Vineyards Cosmic Cafe + Smoothie Bar Good Ole Days Hilltop Marygold's Newsylum Brewing Taco Dia
UID:e.1955.6646
SEQUENCE:3
DTSTAMP:20260423T184440Z
URL:https://business.danburychamber.com/events/details/newtown-restaurant-week-benefiting-nursing-excellence-at-danbury-hospital-6646
END:VEVENT

END:VCALENDAR
