BEGIN:VCALENDAR
VERSION:2.0
PRODID:-//ChamberMaster//Event Calendar 2.0//EN
METHOD:PUBLISH
X-PUBLISHED-TTL:P3D
REFRESH-INTERVAL:P3D
CALSCALE:GREGORIAN
BEGIN:VEVENT
DTSTART:20170713T223000Z
DTEND:20170714T003000Z
X-MICROSOFT-CDO-ALLDAYEVENT:FALSE
SUMMARY:Paint & Sip at Maplewood At Danbury
DESCRIPTION:Join us as we paint with artist\, Karen Sion\, while enjoying a glass of wine and a variety of seasonal delights.\n\n\n\n Please respond by July 10th at 203-744-8444
X-ALT-DESC;FMTTYPE=text/html:Join us as we paint with artist\, Karen Sion\, while enjoying a glass of wine and a variety of seasonal delights.<br />\n<br />\n&#8203\;Please respond by July 10th at 203-744-8444
LOCATION:Maplewood At Danbury 2 2 Hospital Avenue Danbury\, CT
UID:e.1955.31
SEQUENCE:3
DTSTAMP:20260425T211101Z
URL:https://business.danburychamber.com/events/details/paint-sip-at-maplewood-at-danbury-31
END:VEVENT

END:VCALENDAR
