BEGIN:VCALENDAR
VERSION:2.0
PRODID:-//ChamberMaster//Event Calendar 2.0//EN
METHOD:PUBLISH
X-PUBLISHED-TTL:P3D
REFRESH-INTERVAL:P3D
CALSCALE:GREGORIAN
BEGIN:VEVENT
DTSTART:20260613T150000Z
DTEND:20260613T190000Z
X-MICROSOFT-CDO-ALLDAYEVENT:FALSE
SUMMARY:Pawpawpalooza Pet Adoption & Open House 5th Annual
DESCRIPTION:Join us for our 5th Annual pet adoption and open house on Saturday\, June 13th from 11AM 3PM at Pleasant Paws Pet Center in Newtown\, CT!\n\n\n\n\n\nPAWPAWPALOOZA 2026!\n\nJoin us for our 5th Annual pet adoption and open house on Saturday\, June 13th from 11AM 3PM at Pleasant Paws Pet Center   and the best part  this event is FREE to attend!\n\nPawpawpalooza is all about bringing our community together to support local rescues and help incredible animals find the loving homes they deserve. We're proud to provide a space where multiple rescue organizations can showcase their adoptable pets so if you've been thinking about adding a furry family member\, this is the perfect opportunity to meet them with on-site adoptions available!\n\nThis fun-filled day has something for everyone\, including:\n\n. On-site pet adoptions from a variety of local rescues\n\n. A lively vendor fair\n\n. Delicious food trucks\n\n. Fun & games for the whole family\n\n. Raffles & exciting giveaways\n\n. A chance to explore our facility and see everything we offer for your pets\n\n. A low-cost rabies and microchip clinic to keep your pets safe and healthy\n\nThis year's theme: The Circus!\n\nWe've got some extra magic in store\, so keep an eye out for sneak peeks as the event gets closer  think magic shows\, dog trick competitions\, and more surprises under the big top!Bring your friends\, bring your family\, and come celebrate with us whether you're adopting\, shopping\, or just enjoying the day\, Pawpawpalooza is an event you won't want to miss!
X-ALT-DESC;FMTTYPE=text/html:<div>\n<div>\n<p>Join us for our 5th Annual pet adoption and open house on Saturday\, June 13th from 11AM&ndash\;3PM at Pleasant Paws Pet Center in Newtown\, CT!</p>\n</div>\n</div>\n\n<div>\n<div>\n<p>PAWPAWPALOOZA 2026!</p>\n\n<p>Join us for our 5th Annual pet adoption and open house on Saturday\, June 13th from 11AM&ndash\;3PM at Pleasant Paws Pet Center &mdash\; and the best part&hellip\; this event is FREE to attend!</p>\n\n<p>Pawpawpalooza is all about bringing our community together to support local rescues and help incredible animals find the loving homes they deserve. We&rsquo\;re proud to provide a space where multiple rescue organizations can showcase their adoptable pets&mdash\;so if you&rsquo\;ve been thinking about adding a furry family member\, this is the perfect opportunity to meet them with on-site adoptions available!</p>\n\n<p>This fun-filled day has something for everyone\, including:<br />\n. On-site pet adoptions from a variety of local rescues<br />\n. A lively vendor fair<br />\n. Delicious food trucks<br />\n. Fun &amp\; games for the whole family<br />\n. Raffles &amp\; exciting giveaways<br />\n. A chance to explore our facility and see everything we offer for your pets<br />\n. A low-cost rabies and microchip clinic to keep your pets safe and healthy</p>\n\n<p>This year&rsquo\;s theme: The Circus!<br />\nWe&rsquo\;ve got some extra magic in store\, so keep an eye out for sneak peeks as the event gets closer&hellip\; think magic shows\, dog trick competitions\, and more surprises under the big top!Bring your friends\, bring your family\, and come celebrate with us&mdash\;whether you&rsquo\;re adopting\, shopping\, or just enjoying the day\, Pawpawpalooza is an event you won&rsquo\;t want to miss!</p>\n</div>\n</div>\n
LOCATION:
UID:e.1955.6645
SEQUENCE:3
DTSTAMP:20260422T010841Z
URL:https://business.danburychamber.com/events/details/pawpawpalooza-pet-adoption-open-house-5th-annual-6645
END:VEVENT

END:VCALENDAR
