BEGIN:VCALENDAR
VERSION:2.0
PRODID:-//ChamberMaster//Event Calendar 2.0//EN
METHOD:PUBLISH
X-PUBLISHED-TTL:P3D
REFRESH-INTERVAL:P3D
CALSCALE:GREGORIAN
BEGIN:VEVENT
DTSTART:20170727T213000Z
DTEND:20170728T020000Z
X-MICROSOFT-CDO-ALLDAYEVENT:FALSE
SUMMARY:Putnam Ridge's Annual Senior Summer Picnic
DESCRIPTION:
X-ALT-DESC;FMTTYPE=text/html:
LOCATION:Putnam Ridge 46 Mt. Ebo Road N. Brewster NY
UID:e.1955.29
SEQUENCE:3
DTSTAMP:20260425T211229Z
URL:https://business.danburychamber.com/events/details/putnam-ridge-s-annual-senior-summer-picnic-29
END:VEVENT

END:VCALENDAR
