BEGIN:VCALENDAR
VERSION:2.0
PRODID:-//ChamberMaster//Event Calendar 2.0//EN
METHOD:PUBLISH
X-PUBLISHED-TTL:P3D
REFRESH-INTERVAL:P3D
CALSCALE:GREGORIAN
BEGIN:VEVENT
DTSTART:20251017T220000Z
DTEND:20251018T020000Z
X-MICROSOFT-CDO-ALLDAYEVENT:FALSE
SUMMARY:Salvation Army 140 Years Anniversary Celebration
DESCRIPTION:140th Anniversary Celebration
X-ALT-DESC;FMTTYPE=text/html:140th Anniversary Celebration
LOCATION:To Benefit the Programs & Services of The Salvation Army of Danbury
UID:e.1955.6304
SEQUENCE:3
DTSTAMP:20260421T100839Z
URL:https://business.danburychamber.com/events/details/salvation-army-140-years-anniversary-celebration-6304
END:VEVENT

END:VCALENDAR
