BEGIN:VCALENDAR
VERSION:2.0
PRODID:-//ChamberMaster//Event Calendar 2.0//EN
METHOD:PUBLISH
X-PUBLISHED-TTL:P3D
REFRESH-INTERVAL:P3D
CALSCALE:GREGORIAN
BEGIN:VEVENT
DTSTART:20170622T140000Z
DTEND:20170622T200000Z
X-MICROSOFT-CDO-ALLDAYEVENT:FALSE
SUMMARY:Summerfest in the Park
DESCRIPTION:Join the Ridgefield Chamber of Commerce on July 22\, 2017 for our annual SummerFest. New this year\, SummerFest will be held in beautiful Ballard Park and will feature some great attractions as well as town wide sidewalk sales.
X-ALT-DESC;FMTTYPE=text/html:Join the Ridgefield Chamber of Commerce on July 22\, 2017 for our annual SummerFest. New this year\, SummerFest will be held in beautiful Ballard Park and will feature some great attractions as well as town wide sidewalk sales.
LOCATION:
UID:e.1955.11
SEQUENCE:3
DTSTAMP:20260425T223254Z
URL:https://business.danburychamber.com/events/details/summerfest-in-the-park-11
END:VEVENT

END:VCALENDAR
