BEGIN:VCALENDAR
VERSION:2.0
PRODID:-//ChamberMaster//Event Calendar 2.0//EN
METHOD:PUBLISH
X-PUBLISHED-TTL:P3D
REFRESH-INTERVAL:P3D
CALSCALE:GREGORIAN
BEGIN:VEVENT
DTSTART:20260430T223000Z
DTEND:20260501T003000Z
X-MICROSOFT-CDO-ALLDAYEVENT:FALSE
SUMMARY:"The Librarians": Watch Party and Discussion
DESCRIPTION:Register online: brookfieldlib.librarycalendar.com/event/librarians-documentary-watch-party-32021\n\n\n\nCensorship and suppression attempts are happening in public and school libraries across the country. It's real\, and it's happening now.\n\n\n\nMeet the real librarians who are fighting for your right to read.\n\n\n\nThe Brookfield Library and Brookfield Theatre are proud to present a screening of the smash PBS documentary\, The Librarians. After the screening\, participate in a community discussion. Seats are limited\; make sure to register.
X-ALT-DESC;FMTTYPE=text/html:<p>Register online: <a href="http://brookfieldlib.librarycalendar.com/event/librarians-documentary-watch-party-32021">brookfieldlib.librarycalendar.com/event/librarians-documentary-watch-party-32021</a><br />\n<br />\nCensorship and suppression attempts are happening in public and school libraries across the country. It&#39\;s real\, and it&#39\;s happening now.<br />\n<br />\nMeet the real librarians who are fighting for your right to read.<br />\n<br />\nThe Brookfield Library and Brookfield Theatre are proud to present a screening of the smash PBS documentary\, The Librarians. After the screening\, participate in a community discussion. Seats are limited\; <a href="http://brookfieldlib.librarycalendar.com/event/librarians-documentary-watch-party-32021">make sure to register.</a></p>\n
LOCATION:Brookfield Theatre 184 Whisconier Road Brookfield\, CT
UID:e.1955.6644
SEQUENCE:3
DTSTAMP:20260420T232653Z
URL:https://business.danburychamber.com/events/details/the-librarians-watch-party-and-discussion-6644
END:VEVENT

END:VCALENDAR
