BEGIN:VCALENDAR
VERSION:2.0
PRODID:-//ChamberMaster//Event Calendar 2.0//EN
METHOD:PUBLISH
X-PUBLISHED-TTL:P3D
REFRESH-INTERVAL:P3D
CALSCALE:GREGORIAN
BEGIN:VEVENT
DTSTART:20170728T140000Z
DTEND:20170730T020000Z
X-MICROSOFT-CDO-ALLDAYEVENT:FALSE
SUMMARY:Village Fair Days 50th Anniversary
DESCRIPTION:Sponsered by the Greater New Mildford Chamber of Commerce and held on the magnificent village Green\, Village Fair Days is the largest annual event in New Milford and draws thousands of visitors every year. With 2 full days of live entertainment\, bingo\, bouncy houses\, a food court and almost two hundred vendor and community booths\, Village Fair Days is a summertime destination for shopping\, socializing\, eating\, and browsing.
X-ALT-DESC;FMTTYPE=text/html:Sponsered by the Greater New Mildford Chamber of Commerce and held on the magnificent village Green\, Village Fair Days is the largest annual event in New Milford and draws thousands of visitors every year. With 2 full days of live entertainment\, bingo\, bouncy houses\, a food court and almost two hundred vendor and community booths\, Village Fair Days is a summertime destination for shopping\, socializing\, eating\, and browsing.
LOCATION:Village Fair Days 2017 will be held July 28th and July 29th from 10am and 10pm. Admission is free. Handicapped parking is available behind Town Hall\, 10 Main Street\, New Milford. For the safety and comfort of everyone\, please leave your pets at home.
UID:e.1955.15
SEQUENCE:3
DTSTAMP:20260425T211129Z
URL:https://business.danburychamber.com/events/details/village-fair-days-50th-anniversary-15
END:VEVENT

END:VCALENDAR
