BEGIN:VCALENDAR
VERSION:2.0
PRODID:-//ChamberMaster//Event Calendar 2.0//EN
METHOD:PUBLISH
X-PUBLISHED-TTL:P3D
REFRESH-INTERVAL:P3D
CALSCALE:GREGORIAN
BEGIN:VEVENT
DTSTART:20260326T220000Z
DTEND:20260327T203000Z
X-MICROSOFT-CDO-ALLDAYEVENT:FALSE
SUMMARY:WCSU Inauguration of Dr. Jesse M. Bernal
DESCRIPTION:The Board of Regents for Higher Education\, Connecticut State Colleges & Universities\, requests the honor of your presence at the inauguration of Dr. Jesse M. Bernal as Tenth President of Western Connecticut State University.\n\n\n\nRSVP by March 1st online at wcsu.edu/rsvp
X-ALT-DESC;FMTTYPE=text/html:The Board of Regents for Higher Education\, Connecticut State Colleges &amp\; Universities\, requests the honor of your presence at the inauguration of Dr. Jesse M. Bernal as Tenth President of Western Connecticut State University.<br />\n<br />\n<strong>RSVP by March 1st online at wcsu.edu/rsvp</strong>
LOCATION:
UID:e.1955.6614
SEQUENCE:3
DTSTAMP:20260421T084138Z
URL:https://business.danburychamber.com/events/details/wcsu-inauguration-of-dr-jesse-m-bernal-6614
END:VEVENT

END:VCALENDAR
